BEGIN:VCALENDAR
VERSION:2.0
PRODID:-//Cartelera Cultural de Hidalgo - ECPv5.4.0.1//NONSGML v1.0//EN
CALSCALE:GREGORIAN
METHOD:PUBLISH
X-WR-CALNAME:Cartelera Cultural de Hidalgo
X-ORIGINAL-URL:https://cartelera.culturahidalgo.gob.mx
X-WR-CALDESC:Eventos para Cartelera Cultural de Hidalgo
BEGIN:VTIMEZONE
TZID:America/Mexico_City
BEGIN:STANDARD
TZOFFSETFROM:-0600
TZOFFSETTO:-0600
TZNAME:CST
DTSTART:20260101T000000
END:STANDARD
END:VTIMEZONE
BEGIN:VEVENT
DTSTART;TZID=America/Mexico_City:20260501T093000
DTEND;TZID=America/Mexico_City:20260502T200000
DTSTAMP:20260425T182952
CREATED:20260423T183811Z
LAST-MODIFIED:20260423T183811Z
UID:1576-1777627800-1777752000@cartelera.culturahidalgo.gob.mx
SUMMARY:2.º Concurso Nacional de Huapango “Los Llanos de Apan 2026”
DESCRIPTION:
URL:https://cartelera.culturahidalgo.gob.mx/evento/2-o-concurso-nacional-de-huapango-los-llanos-de-apan-2026/
LOCATION:Apan\, Miguel Hidalgo Pte. 1\, Centro\, Apan\, Hidalgo\, 43900\, Mexico
CATEGORIES:Concurso
ATTACH;FMTTYPE=image/jpeg:https://cartelera.culturahidalgo.gob.mx/wp-content/uploads/2026/04/30-1.jpg
END:VEVENT
END:VCALENDAR