BEGIN:VCALENDAR
VERSION:2.0
PRODID:-//Cartelera Cultural de Hidalgo - ECPv5.4.0.1//NONSGML v1.0//EN
CALSCALE:GREGORIAN
METHOD:PUBLISH
X-WR-CALNAME:Cartelera Cultural de Hidalgo
X-ORIGINAL-URL:https://cartelera.culturahidalgo.gob.mx
X-WR-CALDESC:Eventos para Cartelera Cultural de Hidalgo
BEGIN:VTIMEZONE
TZID:America/Mexico_City
BEGIN:STANDARD
TZOFFSETFROM:-0600
TZOFFSETTO:-0600
TZNAME:CST
DTSTART:20260101T000000
END:STANDARD
END:VTIMEZONE
BEGIN:VEVENT
DTSTART;TZID=America/Mexico_City:20260422T110000
DTEND;TZID=America/Mexico_City:20260422T210000
DTSTAMP:20260425T195853
CREATED:20260423T185228Z
LAST-MODIFIED:20260423T185228Z
UID:1586-1776855600-1776891600@cartelera.culturahidalgo.gob.mx
SUMMARY:Balagos Teatro presenta el estreno de “Mientras el mundo respira”
DESCRIPTION:
URL:https://cartelera.culturahidalgo.gob.mx/evento/balagos-teatro-presenta-el-estreno-de-mientras-el-mundo-respira/
LOCATION:Parque Cultural Hidalguense\, Parque Cultural Hidalguense\, Zona Plateada\, Pachuca de Soto\, Hidalgo\, 42083\, Mexico
CATEGORIES:Conmemoración,Función,Teatro
ATTACH;FMTTYPE=image/jpeg:https://cartelera.culturahidalgo.gob.mx/wp-content/uploads/2026/04/a3.jpg
GEO:20.0947761;-98.7728274
X-APPLE-STRUCTURED-LOCATION;VALUE=URI;X-ADDRESS=Parque Cultural Hidalguense Parque Cultural Hidalguense Zona Plateada Pachuca de Soto Hidalgo 42083 Mexico;X-APPLE-RADIUS=500;X-TITLE=Parque Cultural Hidalguense\, Zona Plateada:geo:-98.7728274,20.0947761
END:VEVENT
END:VCALENDAR