BEGIN:VCALENDAR
VERSION:2.0
PRODID:-//Cartelera Cultural de Hidalgo - ECPv5.4.0.1//NONSGML v1.0//EN
CALSCALE:GREGORIAN
METHOD:PUBLISH
X-WR-CALNAME:Cartelera Cultural de Hidalgo
X-ORIGINAL-URL:https://cartelera.culturahidalgo.gob.mx
X-WR-CALDESC:Eventos para Cartelera Cultural de Hidalgo
BEGIN:VTIMEZONE
TZID:America/Mexico_City
BEGIN:STANDARD
TZOFFSETFROM:-0600
TZOFFSETTO:-0600
TZNAME:CST
DTSTART:20260101T000000
END:STANDARD
END:VTIMEZONE
BEGIN:VEVENT
DTSTART;TZID=America/Mexico_City:20260215T140000
DTEND;TZID=America/Mexico_City:20260215T210000
DTSTAMP:20260425T192922
CREATED:20260210T030933Z
LAST-MODIFIED:20260210T030933Z
UID:1334-1771164000-1771189200@cartelera.culturahidalgo.gob.mx
SUMMARY:Caravana Cultural Mixquiahuala 2026
DESCRIPTION:
URL:https://cartelera.culturahidalgo.gob.mx/evento/caravana-cultural-mixquiahuala-2026/
LOCATION:Mixquiahuala de Juárez\, Parque Central\, Centro\, 3ra Demarcación\, Mixquiahuala de Juárez\, Hidalgo\, 42700\, Mexico
CATEGORIES:Caravana,Multidisciplinario
ATTACH;FMTTYPE=image/jpeg:https://cartelera.culturahidalgo.gob.mx/wp-content/uploads/2026/02/Regresan-las-Caravanas-Culturales-y-comienza-el-recorrido-por-los-municipios-de-Hidalgo-4.jpg
END:VEVENT
END:VCALENDAR