BEGIN:VCALENDAR
VERSION:2.0
PRODID:-//Cartelera Cultural de Hidalgo - ECPv5.4.0.1//NONSGML v1.0//EN
CALSCALE:GREGORIAN
METHOD:PUBLISH
X-WR-CALNAME:Cartelera Cultural de Hidalgo
X-ORIGINAL-URL:https://cartelera.culturahidalgo.gob.mx
X-WR-CALDESC:Eventos para Cartelera Cultural de Hidalgo
BEGIN:VTIMEZONE
TZID:America/Mexico_City
BEGIN:STANDARD
TZOFFSETFROM:-0600
TZOFFSETTO:-0600
TZNAME:CST
DTSTART:20260101T000000
END:STANDARD
END:VTIMEZONE
BEGIN:VEVENT
DTSTART;TZID=America/Mexico_City:20260216T080000
DTEND;TZID=America/Mexico_City:20260224T210000
DTSTAMP:20260425T200608
CREATED:20260213T221541Z
LAST-MODIFIED:20260213T221541Z
UID:1344-1771228800-1771966800@cartelera.culturahidalgo.gob.mx
SUMMARY:Carnaval 2026 San Bartolo Tutotepec y sus localidades
DESCRIPTION:
URL:https://cartelera.culturahidalgo.gob.mx/evento/carnaval-2026-san-bartolo-tutotepec-y-sus-localidades/
LOCATION:San Bartolo Tutotepec\, San Bartolo Tutotepec\, Hidalgo\, 43440\, Mexico
CATEGORIES:Carnaval
ATTACH;FMTTYPE=image/jpeg:https://cartelera.culturahidalgo.gob.mx/wp-content/uploads/2026/02/20260206-San-Bartolo.jpeg
END:VEVENT
END:VCALENDAR