BEGIN:VCALENDAR
VERSION:2.0
PRODID:-//Cartelera Cultural de Hidalgo - ECPv5.4.0.1//NONSGML v1.0//EN
CALSCALE:GREGORIAN
METHOD:PUBLISH
X-WR-CALNAME:Cartelera Cultural de Hidalgo
X-ORIGINAL-URL:https://cartelera.culturahidalgo.gob.mx
X-WR-CALDESC:Eventos para Cartelera Cultural de Hidalgo
BEGIN:VTIMEZONE
TZID:America/Mexico_City
BEGIN:STANDARD
TZOFFSETFROM:-0600
TZOFFSETTO:-0600
TZNAME:CST
DTSTART:20260101T000000
END:STANDARD
END:VTIMEZONE
BEGIN:VEVENT
DTSTART;TZID=America/Mexico_City:20260214T090000
DTEND;TZID=America/Mexico_City:20260217T210000
DTSTAMP:20260425T200309
CREATED:20260209T205434Z
LAST-MODIFIED:20260209T205434Z
UID:1325-1771059600-1771362000@cartelera.culturahidalgo.gob.mx
SUMMARY:Carnaval Metztitlán 2026
DESCRIPTION:
URL:https://cartelera.culturahidalgo.gob.mx/evento/carnaval-metztitlan-2026/
LOCATION:Metztitlán\, Centro\, Metztitlán\, Hidalgo\, 43350
CATEGORIES:Carnaval
ATTACH;FMTTYPE=image/jpeg:https://cartelera.culturahidalgo.gob.mx/wp-content/uploads/2026/02/01-.jpeg
END:VEVENT
END:VCALENDAR