BEGIN:VCALENDAR
VERSION:2.0
PRODID:-//Cartelera Cultural de Hidalgo - ECPv5.4.0.1//NONSGML v1.0//EN
CALSCALE:GREGORIAN
METHOD:PUBLISH
X-WR-CALNAME:Cartelera Cultural de Hidalgo
X-ORIGINAL-URL:https://cartelera.culturahidalgo.gob.mx
X-WR-CALDESC:Eventos para Cartelera Cultural de Hidalgo
BEGIN:VTIMEZONE
TZID:America/Mexico_City
BEGIN:STANDARD
TZOFFSETFROM:-0600
TZOFFSETTO:-0600
TZNAME:CST
DTSTART:20260101T000000
END:STANDARD
END:VTIMEZONE
BEGIN:VEVENT
DTSTART;TZID=America/Mexico_City:20260224T160000
DTEND;TZID=America/Mexico_City:20260224T210000
DTSTAMP:20260425T171416
CREATED:20260214T012804Z
LAST-MODIFIED:20260214T012804Z
UID:1360-1771948800-1771966800@cartelera.culturahidalgo.gob.mx
SUMMARY:Carnaval Tetepango 2026
DESCRIPTION:
URL:https://cartelera.culturahidalgo.gob.mx/evento/carnaval-tetepango-2026/
LOCATION:Tetepango\, Nicolás Bravo\, Tetepango\, Hidalgo\, 42940\, Mexico
CATEGORIES:Carnaval
ATTACH;FMTTYPE=image/jpeg:https://cartelera.culturahidalgo.gob.mx/wp-content/uploads/2026/02/20260224-Tetepango.jpg
END:VEVENT
END:VCALENDAR