BEGIN:VCALENDAR
VERSION:2.0
PRODID:-//Cartelera Cultural de Hidalgo - ECPv5.4.0.1//NONSGML v1.0//EN
CALSCALE:GREGORIAN
METHOD:PUBLISH
X-WR-CALNAME:Cartelera Cultural de Hidalgo
X-ORIGINAL-URL:https://cartelera.culturahidalgo.gob.mx
X-WR-CALDESC:Eventos para Cartelera Cultural de Hidalgo
BEGIN:VTIMEZONE
TZID:America/Mexico_City
BEGIN:STANDARD
TZOFFSETFROM:-0600
TZOFFSETTO:-0600
TZNAME:CST
DTSTART:20260101T000000
END:STANDARD
END:VTIMEZONE
BEGIN:VEVENT
DTSTART;TZID=America/Mexico_City:20260216T080000
DTEND;TZID=America/Mexico_City:20260219T200000
DTSTAMP:20260425T200306
CREATED:20260206T184945Z
LAST-MODIFIED:20260206T184945Z
UID:1252-1771228800-1771531200@cartelera.culturahidalgo.gob.mx
SUMMARY:Carnavales Jaltocán
DESCRIPTION:
URL:https://cartelera.culturahidalgo.gob.mx/evento/carnavales-jaltocan/
LOCATION:Jaltocán\, Centro\, Jaltocán\, Hidalgo\, 43040\, Mexico
CATEGORIES:Carnaval
ATTACH;FMTTYPE=image/jpeg:https://cartelera.culturahidalgo.gob.mx/wp-content/uploads/2026/02/20260216-Carnavales-Jaltocan.jpeg
END:VEVENT
END:VCALENDAR