BEGIN:VCALENDAR
VERSION:2.0
PRODID:-//Cartelera Cultural de Hidalgo - ECPv5.4.0.1//NONSGML v1.0//EN
CALSCALE:GREGORIAN
METHOD:PUBLISH
X-WR-CALNAME:Cartelera Cultural de Hidalgo
X-ORIGINAL-URL:https://cartelera.culturahidalgo.gob.mx
X-WR-CALDESC:Eventos para Cartelera Cultural de Hidalgo
BEGIN:VTIMEZONE
TZID:America/Mexico_City
BEGIN:STANDARD
TZOFFSETFROM:-0600
TZOFFSETTO:-0600
TZNAME:CST
DTSTART:20260101T000000
END:STANDARD
END:VTIMEZONE
BEGIN:VEVENT
DTSTART;TZID=America/Mexico_City:20260207T170000
DTEND;TZID=America/Mexico_City:20260207T190000
DTSTAMP:20260425T200733
CREATED:20260206T153453Z
LAST-MODIFIED:20260206T153453Z
UID:1239-1770483600-1770490800@cartelera.culturahidalgo.gob.mx
SUMMARY:Concierto conmemorativo Natalicio Abundio Martínez
DESCRIPTION:
URL:https://cartelera.culturahidalgo.gob.mx/evento/concierto-conmemorativo-natalicio-abundio-martinez/
LOCATION:Huichapan\, Jardín Ignacio Zaragoza\, Centro Histórico\, Huichapan\, Hidalgo\, 42400\, Mexico
CATEGORIES:Concierto,Conmemoración
ATTACH;FMTTYPE=image/jpeg:https://cartelera.culturahidalgo.gob.mx/wp-content/uploads/2026/02/20250207-Concierto-Abundio-Martinez.jpeg
END:VEVENT
END:VCALENDAR