BEGIN:VCALENDAR
VERSION:2.0
PRODID:-//Cartelera Cultural de Hidalgo - ECPv5.4.0.1//NONSGML v1.0//EN
CALSCALE:GREGORIAN
METHOD:PUBLISH
X-WR-CALNAME:Cartelera Cultural de Hidalgo
X-ORIGINAL-URL:https://cartelera.culturahidalgo.gob.mx
X-WR-CALDESC:Eventos para Cartelera Cultural de Hidalgo
BEGIN:VTIMEZONE
TZID:America/Mexico_City
BEGIN:STANDARD
TZOFFSETFROM:-0600
TZOFFSETTO:-0600
TZNAME:CST
DTSTART:20260101T000000
END:STANDARD
END:VTIMEZONE
BEGIN:VEVENT
DTSTART;TZID=America/Mexico_City:20260314T110000
DTEND;TZID=America/Mexico_City:20260314T200000
DTSTAMP:20260425T125705
CREATED:20260307T000420Z
LAST-MODIFIED:20260307T001553Z
UID:1415-1773486000-1773518400@cartelera.culturahidalgo.gob.mx
SUMMARY:Cromma Fest 2026
DESCRIPTION:
URL:https://cartelera.culturahidalgo.gob.mx/evento/cromma-fest-2026/
LOCATION:Centro Cultural del Ferrocarril\, Calle Gral. Ignacio Mejía s/n\, Col. Morelos\, Pachuca de Soto\, Hidalgo\, 42040\, Mexico
CATEGORIES:Festival,Música
ATTACH;FMTTYPE=image/jpeg:https://cartelera.culturahidalgo.gob.mx/wp-content/uploads/2026/03/chromafest.jpeg
GEO:20.122176;-98.740563
X-APPLE-STRUCTURED-LOCATION;VALUE=URI;X-ADDRESS=Centro Cultural del Ferrocarril Calle Gral. Ignacio Mejía s/n Col. Morelos Pachuca de Soto Hidalgo 42040 Mexico;X-APPLE-RADIUS=500;X-TITLE=Calle Gral. Ignacio Mejía s/n\, Col. Morelos:geo:-98.740563,20.122176
END:VEVENT
END:VCALENDAR