BEGIN:VCALENDAR
VERSION:2.0
PRODID:-//Cartelera Cultural de Hidalgo - ECPv5.4.0.1//NONSGML v1.0//EN
CALSCALE:GREGORIAN
METHOD:PUBLISH
X-WR-CALNAME:Cartelera Cultural de Hidalgo
X-ORIGINAL-URL:https://cartelera.culturahidalgo.gob.mx
X-WR-CALDESC:Eventos para Cartelera Cultural de Hidalgo
BEGIN:VTIMEZONE
TZID:America/Mexico_City
BEGIN:STANDARD
TZOFFSETFROM:-0600
TZOFFSETTO:-0600
TZNAME:CST
DTSTART:20260101T000000
END:STANDARD
END:VTIMEZONE
BEGIN:VEVENT
DTSTART;TZID=America/Mexico_City:20260210T120000
DTEND;TZID=America/Mexico_City:20260210T140000
DTSTAMP:20260425T195956
CREATED:20260206T152841Z
LAST-MODIFIED:20260206T152841Z
UID:1236-1770724800-1770732000@cartelera.culturahidalgo.gob.mx
SUMMARY:Mercado Creativo Digital en Hidalgo
DESCRIPTION:Mercado Creativo Digital es un directorio donde las personas creativas de México se encuentran para ofrecer servicios\, encontrar colaboraciones y hacer crecer sus proyectos.\n¿Trabajas en los sectores de diseño\, audiovisual y entornos inmersivos? \n¿Quieres mostrar tu experiencia y proyectos en un directorio de servicios digitales que te permita ofrecer tus servicios\, encontrar colaboradores y tener acceso a recursos de formación y financiamiento? \n¡Ven este 10 de febrero al Centro de Cultura Digital de Hidalgo y entérate qué es Mercado Creativo Digital y crea tu perfil! \nMercado Creativo Digital busca visibilizar los trabajos culturales y artísticos\, fortalecer redes de creación y colaboración entre sus agentes (dentro y fuera del ámbito cultural) e impulsar la sostenibilidad de las prácticas creativas desde el entorno digital. \nEn este directorio\, podrás crear tu perfil de manera sencilla —ya sea como persona creadora\, colectivo o empresa—. También podrás mostrar proyectos y ofrecer tus servicios sin intermediarios. Será posible construir redes de colaboración\, acceder a recursos de formación con materiales especializados\, herramientas y talleres. En este espacio formarás parte de una comunidad que comparte saberes\, oportunidades y procesos en el entorno digital. \nDirección del Centro de Cultura Digital de Hidalgo: Viaducto Río de las Avenidas no. 200\, col. Periodistas\, Pachuca de Soto\, Hidalgo\, C.P. 42060 \nComparte: \nAnte la necesidad de circular\, crear y exponer modos de intercambios justos y dignos para los proyectos artísticos y culturales influenciados por la digitalidad\, el laboratorio de Economía Cultural y Creativa está dedicado a entender cómo los agentes y sectores dentro del ecosistema creativo trabajan y organizan sus procesos creativos o cadenas de valor. \nEl laboratorio se plantea como un espacio para la reflexión y la formación. Por medio de seminarios\, talleres\, charlas y el directorio de Mercado Creativo Digital\, queremos compartir saberes y herramientas para que los proyectos culturales y artísticos puedan apropiarse de sus propios procesos de desarrollo y hacerlos sostenible.
URL:https://cartelera.culturahidalgo.gob.mx/evento/mercado-creativo-digital-en-hidalgo/
LOCATION:Centro de Cultura Digital\, Viaducto Río de las Avenidas 200\, Col. Periodistas\, Pachuca de Soto\, Hidalgo\, 42060\, Mexico
CATEGORIES:Jornada
ATTACH;FMTTYPE=image/jpeg:https://cartelera.culturahidalgo.gob.mx/wp-content/uploads/2026/02/04_MC_JornadaHidalgo.jpg
GEO:20.118038;-98.735343
X-APPLE-STRUCTURED-LOCATION;VALUE=URI;X-ADDRESS=Centro de Cultura Digital Viaducto Río de las Avenidas 200 Col. Periodistas Pachuca de Soto Hidalgo 42060 Mexico;X-APPLE-RADIUS=500;X-TITLE=Viaducto Río de las Avenidas 200\, Col. Periodistas:geo:-98.735343,20.118038
END:VEVENT
END:VCALENDAR