BEGIN:VCALENDAR
VERSION:2.0
PRODID:-//Cartelera Cultural de Hidalgo - ECPv5.4.0.1//NONSGML v1.0//EN
CALSCALE:GREGORIAN
METHOD:PUBLISH
X-WR-CALNAME:Cartelera Cultural de Hidalgo
X-ORIGINAL-URL:https://cartelera.culturahidalgo.gob.mx
X-WR-CALDESC:Eventos para Cartelera Cultural de Hidalgo
BEGIN:VTIMEZONE
TZID:America/Mexico_City
BEGIN:STANDARD
TZOFFSETFROM:-0600
TZOFFSETTO:-0600
TZNAME:CST
DTSTART:20260101T000000
END:STANDARD
END:VTIMEZONE
BEGIN:VEVENT
DTSTART;TZID=America/Mexico_City:20260206T120000
DTEND;TZID=America/Mexico_City:20260401T170000
DTSTAMP:20260425T200448
CREATED:20260206T234106Z
LAST-MODIFIED:20260206T235725Z
UID:1258-1770379200-1775062800@cartelera.culturahidalgo.gob.mx
SUMMARY:Ruta de capacitaciones PACMyC 2026
DESCRIPTION:
URL:https://cartelera.culturahidalgo.gob.mx/evento/ruta-de-capacitaciones-pacmyc-2026/
LOCATION:Varias sedes\, Hidalgo
CATEGORIES:Capacitación
ATTACH;FMTTYPE=image/jpeg:https://cartelera.culturahidalgo.gob.mx/wp-content/uploads/2026/02/01.jpeg
END:VEVENT
END:VCALENDAR