BEGIN:VCALENDAR
VERSION:2.0
PRODID:-//Cartelera Cultural de Hidalgo - ECPv5.4.0.1//NONSGML v1.0//EN
CALSCALE:GREGORIAN
METHOD:PUBLISH
X-WR-CALNAME:Cartelera Cultural de Hidalgo
X-ORIGINAL-URL:https://cartelera.culturahidalgo.gob.mx
X-WR-CALDESC:Eventos para Cartelera Cultural de Hidalgo
BEGIN:VTIMEZONE
TZID:America/Mexico_City
BEGIN:STANDARD
TZOFFSETFROM:-0600
TZOFFSETTO:-0600
TZNAME:CST
DTSTART:20260101T000000
END:STANDARD
END:VTIMEZONE
BEGIN:VEVENT
DTSTART;TZID=America/Mexico_City:20260116T080000
DTEND;TZID=America/Mexico_City:20260116T170000
DTSTAMP:20260425T210231
CREATED:20260116T153727Z
LAST-MODIFIED:20260116T153727Z
UID:1229-1768550400-1768582800@cartelera.culturahidalgo.gob.mx
SUMMARY:Testing
DESCRIPTION:dsa das fsd fszd fzsd fzsdfxgcgv
URL:https://cartelera.culturahidalgo.gob.mx/evento/testing/
LOCATION:Auditorio Ramón Noble del Centro Cultural del Ferrocarril\, Calle Gral. Ignacio Mejía s/n\, Col. Morelos\, Pachuca de Soto\, Hidalgo\, 42040\, Mexico
CATEGORIES:Arquitectura
GEO:20.1221885;-98.740563
X-APPLE-STRUCTURED-LOCATION;VALUE=URI;X-ADDRESS=Auditorio Ramón Noble del Centro Cultural del Ferrocarril Calle Gral. Ignacio Mejía s/n Col. Morelos Pachuca de Soto Hidalgo 42040 Mexico;X-APPLE-RADIUS=500;X-TITLE=Calle Gral. Ignacio Mejía s/n\, Col. Morelos:geo:-98.740563,20.1221885
END:VEVENT
END:VCALENDAR