BEGIN:VCALENDAR
VERSION:2.0
PRODID:-//Cartelera Cultural de Hidalgo - ECPv5.4.0.1//NONSGML v1.0//EN
CALSCALE:GREGORIAN
METHOD:PUBLISH
X-WR-CALNAME:Cartelera Cultural de Hidalgo
X-ORIGINAL-URL:https://cartelera.culturahidalgo.gob.mx
X-WR-CALDESC:Eventos para Cartelera Cultural de Hidalgo
BEGIN:VTIMEZONE
TZID:America/Mexico_City
BEGIN:STANDARD
TZOFFSETFROM:-0600
TZOFFSETTO:-0600
TZNAME:CST
DTSTART:20260101T000000
END:STANDARD
END:VTIMEZONE
BEGIN:VEVENT
DTSTART;TZID=America/Mexico_City:20260330T080000
DTEND;TZID=America/Mexico_City:20260404T190000
DTSTAMP:20260425T155152
CREATED:20260330T215428Z
LAST-MODIFIED:20260330T215428Z
UID:1492-1774857600-1775329200@cartelera.culturahidalgo.gob.mx
SUMMARY:Cartelera cultural del 30 de marzo al 04 de abril 2026
DESCRIPTION:
URL:https://cartelera.culturahidalgo.gob.mx/evento/cartelera-cultural-del-30-de-marzo-al-04-de-abril-2026/
LOCATION:Varias sedes\, Hidalgo
CATEGORIES:Multidisciplinario
ATTACH;FMTTYPE=image/jpeg:https://cartelera.culturahidalgo.gob.mx/wp-content/uploads/2026/03/01-3.jpg
END:VEVENT
BEGIN:VEVENT
DTSTART;TZID=America/Mexico_City:20260331T080000
DTEND;TZID=America/Mexico_City:20260331T190000
DTSTAMP:20260425T155152
CREATED:20260330T221940Z
LAST-MODIFIED:20260330T221940Z
UID:1522-1774944000-1774983600@cartelera.culturahidalgo.gob.mx
SUMMARY:#HidalgoNoRegatea\, marzo de 2026
DESCRIPTION:
URL:https://cartelera.culturahidalgo.gob.mx/evento/hidalgonoregatea-marzo-de-2026/
LOCATION:Varias sedes\, Hidalgo
CATEGORIES:Conmemoración,Patrimonio
ATTACH;FMTTYPE=image/jpeg:https://cartelera.culturahidalgo.gob.mx/wp-content/uploads/2026/03/18.jpg
END:VEVENT
BEGIN:VEVENT
DTSTART;TZID=America/Mexico_City:20260403T090000
DTEND;TZID=America/Mexico_City:20260405T200000
DTSTAMP:20260425T155152
CREATED:20260323T234547Z
LAST-MODIFIED:20260323T234547Z
UID:1487-1775206800-1775419200@cartelera.culturahidalgo.gob.mx
SUMMARY:XVL Muestra Gastronómica de Santiago de Anaya
DESCRIPTION:
URL:https://cartelera.culturahidalgo.gob.mx/evento/xvl-muestra-gastronomica-de-santiago-de-anaya/
LOCATION:Santiago de Anaya\, Santiago de Anaya\, Hidalgo\, 42620\, Mexico
CATEGORIES:Gastronomía,Muestra
ATTACH;FMTTYPE=image/jpeg:https://cartelera.culturahidalgo.gob.mx/wp-content/uploads/2026/03/650729336_1351456620357793_3037137875182294700_n.jpg
END:VEVENT
BEGIN:VEVENT
DTSTART;TZID=America/Mexico_City:20260404T150000
DTEND;TZID=America/Mexico_City:20260404T170000
DTSTAMP:20260425T155152
CREATED:20260330T221617Z
LAST-MODIFIED:20260330T221617Z
UID:1519-1775314800-1775322000@cartelera.culturahidalgo.gob.mx
SUMMARY:Sergio Maya con el Mariachi Luceros de mi Tierra
DESCRIPTION:
URL:https://cartelera.culturahidalgo.gob.mx/evento/sergio-maya-con-el-mariachi-luceros-de-mi-tierra/
LOCATION:Santiago de Anaya\, Santiago de Anaya\, Hidalgo\, 42620\, Mexico
CATEGORIES:Gastronomía,Muestra,Presentación
ATTACH;FMTTYPE=image/jpeg:https://cartelera.culturahidalgo.gob.mx/wp-content/uploads/2026/03/17.jpg
END:VEVENT
BEGIN:VEVENT
DTSTART;TZID=America/Mexico_City:20260405T050000
DTEND;TZID=America/Mexico_City:20260412T160000
DTSTAMP:20260425T155152
CREATED:20260401T192252Z
LAST-MODIFIED:20260401T192252Z
UID:1529-1775365200-1776009600@cartelera.culturahidalgo.gob.mx
SUMMARY:Carnaval Pisaflores 2026
DESCRIPTION:
URL:https://cartelera.culturahidalgo.gob.mx/evento/carnaval-pisaflores-2026/
LOCATION:Pisaflores\, Plaza Juárez\, Arteaga\, Pisaflores\, Hidalgo\, 42220\, Mexico
CATEGORIES:Carnaval
ATTACH;FMTTYPE=image/jpeg:https://cartelera.culturahidalgo.gob.mx/wp-content/uploads/2026/04/01.jpg
END:VEVENT
BEGIN:VEVENT
DTSTART;TZID=America/Mexico_City:20260406T080000
DTEND;TZID=America/Mexico_City:20260412T190000
DTSTAMP:20260425T155152
CREATED:20260407T002310Z
LAST-MODIFIED:20260407T002310Z
UID:1552-1775462400-1776020400@cartelera.culturahidalgo.gob.mx
SUMMARY:Cartelera cultural del 06 al 12 de abril 2026
DESCRIPTION:
URL:https://cartelera.culturahidalgo.gob.mx/evento/cartelera-cultural-del-06-al-12-de-abril-2026/
LOCATION:Varias sedes\, Hidalgo
CATEGORIES:Multidisciplinario
ATTACH;FMTTYPE=image/jpeg:https://cartelera.culturahidalgo.gob.mx/wp-content/uploads/2026/04/01-1.jpg
END:VEVENT
BEGIN:VEVENT
DTSTART;TZID=America/Mexico_City:20260411T070000
DTEND;TZID=America/Mexico_City:20260411T200000
DTSTAMP:20260425T155152
CREATED:20260330T221028Z
LAST-MODIFIED:20260330T221059Z
UID:1510-1775890800-1775937600@cartelera.culturahidalgo.gob.mx
SUMMARY:Caravana Cultural en San Salvador
DESCRIPTION:
URL:https://cartelera.culturahidalgo.gob.mx/evento/caravana-cultural-en-san-salvador/
LOCATION:Bóxtha Chico\, Centro\, Bóxtha Chico\, San Salvador\, Hidalgo\, 42644\, Mexico
CATEGORIES:Caravana
ATTACH;FMTTYPE=image/jpeg:https://cartelera.culturahidalgo.gob.mx/wp-content/uploads/2026/03/14-1.jpg
END:VEVENT
BEGIN:VEVENT
DTSTART;TZID=America/Mexico_City:20260411T170000
DTEND;TZID=America/Mexico_City:20260411T190000
DTSTAMP:20260425T155152
CREATED:20260401T192955Z
LAST-MODIFIED:20260401T193536Z
UID:1539-1775926800-1775934000@cartelera.culturahidalgo.gob.mx
SUMMARY:Borges no estaba ciego
DESCRIPTION: Neurodrama AC Teatro Teatro te invita a vivir una experiencia que transformará tu manera de sentir el teatroEn esta historia\, Jorge Luis Borges llega a México para lo que sería una de sus últimas visitas\, acompañado de María Kodama. Sin embargo\, su estancia da un giro inesperado cuando dos jóvenes irrumpen con una exigencia que pondrá a prueba sus convicciones… \nEntrada general: $100\nReserva tu lugar al 791 102 78 45\nClasificación: +15
URL:https://cartelera.culturahidalgo.gob.mx/evento/borges-no-estaba-ciego/
LOCATION:Teatro Guillermo Romo de Vivar\, Avenida Benito Juárez\, Plaza Juárez S/N\, Centro\, Pachuca de Soto\, Hidalgo\, 42000\, Mexico
CATEGORIES:Teatro
ATTACH;FMTTYPE=image/jpeg:https://cartelera.culturahidalgo.gob.mx/wp-content/uploads/2026/04/661678448_1368924131944375_855335155371143897_n.jpg
GEO:20.123137;-98.736712
X-APPLE-STRUCTURED-LOCATION;VALUE=URI;X-ADDRESS=Teatro Guillermo Romo de Vivar Avenida Benito Juárez Plaza Juárez S/N Centro Pachuca de Soto Hidalgo 42000 Mexico;X-APPLE-RADIUS=500;X-TITLE=Avenida Benito Juárez\, Plaza Juárez S/N\, Centro:geo:-98.736712,20.123137
END:VEVENT
BEGIN:VEVENT
DTSTART;TZID=America/Mexico_City:20260411T180000
DTEND;TZID=America/Mexico_City:20260411T200000
DTSTAMP:20260425T155152
CREATED:20260407T002641Z
LAST-MODIFIED:20260407T002641Z
UID:1559-1775930400-1775937600@cartelera.culturahidalgo.gob.mx
SUMMARY:Concierto de la Orquesta Sinfónica Nacional Juvenil de México (abril 2026)
DESCRIPTION:Descarga tus boletos de cortesía desde nuestra Taquilla Digital: https://taquilla.cecultah.gob.mx/events/concierto-de-la-orquesta-sinfonica-nacional-juvenil-de-mexico-abril-2026/
URL:https://cartelera.culturahidalgo.gob.mx/evento/concierto-de-la-orquesta-sinfonica-nacional-juvenil-de-mexico-abril-2026/
LOCATION:Auditorio Gota de Plata\, Blvd. Felipe Ángeles s/n\, Real de la Plata\, Pachuca de Soto\, Hidalgo\, 42083\, Mexico
CATEGORIES:Concierto
ATTACH;FMTTYPE=image/jpeg:https://cartelera.culturahidalgo.gob.mx/wp-content/uploads/2026/04/WhatsApp-Image-2026-04-05-at-11.19.03-AM.jpeg
GEO:20.092097;-98.774573
X-APPLE-STRUCTURED-LOCATION;VALUE=URI;X-ADDRESS=Auditorio Gota de Plata Blvd. Felipe Ángeles s/n Real de la Plata Pachuca de Soto Hidalgo 42083 Mexico;X-APPLE-RADIUS=500;X-TITLE=Blvd. Felipe Ángeles s/n\, Real de la Plata:geo:-98.774573,20.092097
END:VEVENT
BEGIN:VEVENT
DTSTART;TZID=America/Mexico_City:20260415T080000
DTEND;TZID=America/Mexico_City:20260424T235900
DTSTAMP:20260425T155152
CREATED:20260423T184548Z
LAST-MODIFIED:20260423T184548Z
UID:1582-1776240000-1777075140@cartelera.culturahidalgo.gob.mx
SUMMARY:Convocatoria Nuevos Talentos OSEH 2026
DESCRIPTION:
URL:https://cartelera.culturahidalgo.gob.mx/evento/convocatoria-nuevos-talentos-oseh-2026/
LOCATION:En línea\, Hidalgo\, Mexico
CATEGORIES:Convocatoria
ATTACH;FMTTYPE=image/jpeg:https://cartelera.culturahidalgo.gob.mx/wp-content/uploads/2026/04/40.jpg
END:VEVENT
BEGIN:VEVENT
DTSTART;VALUE=DATE:20260421
DTEND;VALUE=DATE:20260423
DTSTAMP:20260425T155152
CREATED:20260423T192146Z
LAST-MODIFIED:20260423T192325Z
UID:1600-1776765600-1776851999@cartelera.culturahidalgo.gob.mx
SUMMARY:Convocatoria XXXI Concierto de Bandas de Viento Calnali 2026
DESCRIPTION:El Ayuntamiento Calnali te invita a participar en su “Concurso de Bandas Tradicionales”. \nEsta convocatoria está abierta para que todas las bandas de diferentes comunidades puedan formar parte de este importante evento y compartir su talento con el público. \nSi formas parte de una banda de viento tradicional\, ¡esta es tu oportunidad de ser parte de una de las ferias más importantes! \n¡Inscríbete y participa!
URL:https://cartelera.culturahidalgo.gob.mx/evento/convocatoria-xxxi-concierto-de-bandas-de-viento-calnali-2026/
LOCATION:Calnali\, Parque Calnali\, Centro\, Calnali\, Hidalgo\, 43230\, Mexico
CATEGORIES:Concurso,Música
ATTACH;FMTTYPE=image/jpeg:https://cartelera.culturahidalgo.gob.mx/wp-content/uploads/2026/04/654560481_1356439853192803_5896001622940714312_n.jpg
END:VEVENT
BEGIN:VEVENT
DTSTART;TZID=America/Mexico_City:20260422T110000
DTEND;TZID=America/Mexico_City:20260422T210000
DTSTAMP:20260425T155152
CREATED:20260423T185228Z
LAST-MODIFIED:20260423T185228Z
UID:1586-1776855600-1776891600@cartelera.culturahidalgo.gob.mx
SUMMARY:Balagos Teatro presenta el estreno de “Mientras el mundo respira”
DESCRIPTION:
URL:https://cartelera.culturahidalgo.gob.mx/evento/balagos-teatro-presenta-el-estreno-de-mientras-el-mundo-respira/
LOCATION:Parque Cultural Hidalguense\, Parque Cultural Hidalguense\, Zona Plateada\, Pachuca de Soto\, Hidalgo\, 42083\, Mexico
CATEGORIES:Conmemoración,Función,Teatro
ATTACH;FMTTYPE=image/jpeg:https://cartelera.culturahidalgo.gob.mx/wp-content/uploads/2026/04/a3.jpg
GEO:20.0947761;-98.7728274
X-APPLE-STRUCTURED-LOCATION;VALUE=URI;X-ADDRESS=Parque Cultural Hidalguense Parque Cultural Hidalguense Zona Plateada Pachuca de Soto Hidalgo 42083 Mexico;X-APPLE-RADIUS=500;X-TITLE=Parque Cultural Hidalguense\, Zona Plateada:geo:-98.7728274,20.0947761
END:VEVENT
BEGIN:VEVENT
DTSTART;TZID=America/Mexico_City:20260423T100000
DTEND;TZID=America/Mexico_City:20260423T170000
DTSTAMP:20260425T155152
CREATED:20260423T190008Z
LAST-MODIFIED:20260423T190008Z
UID:1593-1776938400-1776963600@cartelera.culturahidalgo.gob.mx
SUMMARY:25 para el 25 (abril de 2026)
DESCRIPTION:
URL:https://cartelera.culturahidalgo.gob.mx/evento/25-para-el-25-abril-de-2026/
LOCATION:Parque Cultural Hidalguense\, Parque Cultural Hidalguense\, Zona Plateada\, Pachuca de Soto\, Hidalgo\, 42083\, Mexico
CATEGORIES:Jornada,Literatura,Narración oral
ATTACH;FMTTYPE=image/jpeg:https://cartelera.culturahidalgo.gob.mx/wp-content/uploads/2026/04/673662830_1381100564060065_3115814525316781232_n.jpg
GEO:20.0947761;-98.7728274
X-APPLE-STRUCTURED-LOCATION;VALUE=URI;X-ADDRESS=Parque Cultural Hidalguense Parque Cultural Hidalguense Zona Plateada Pachuca de Soto Hidalgo 42083 Mexico;X-APPLE-RADIUS=500;X-TITLE=Parque Cultural Hidalguense\, Zona Plateada:geo:-98.7728274,20.0947761
END:VEVENT
BEGIN:VEVENT
DTSTART;TZID=America/Mexico_City:20260423T100000
DTEND;TZID=America/Mexico_City:20260423T150000
DTSTAMP:20260425T155152
CREATED:20260423T194610Z
LAST-MODIFIED:20260423T194827Z
UID:1606-1776938400-1776956400@cartelera.culturahidalgo.gob.mx
SUMMARY:Día Internacional del Libro y Derechos de Autor 2026
DESCRIPTION:
URL:https://cartelera.culturahidalgo.gob.mx/evento/dia-internacional-del-libro-y-derechos-de-autor-2026/
LOCATION:Antigua Estación de Ferrocarril de Tula\, Pzla. de La Estación 202\, Tula de Allende\, Hidalgo\, 42800\, Mexico
CATEGORIES:Conmemoración,Jornada,Lectura en voz alta,Literatura,Multidisciplinario
ATTACH;FMTTYPE=image/jpeg:https://cartelera.culturahidalgo.gob.mx/wp-content/uploads/2026/04/678253974_1386723103497811_3532256422780140756_n-1.jpg
END:VEVENT
BEGIN:VEVENT
DTSTART;TZID=America/Mexico_City:20260423T100000
DTEND;TZID=America/Mexico_City:20260423T130000
DTSTAMP:20260425T155152
CREATED:20260424T234245Z
LAST-MODIFIED:20260425T001428Z
UID:1617-1776938400-1776949200@cartelera.culturahidalgo.gob.mx
SUMMARY:Día del libro
DESCRIPTION:
URL:https://cartelera.culturahidalgo.gob.mx/evento/dia-del-libro/
LOCATION:Foro Cultural “Benito Juárez” de Tlaxcoapan\, 42950\, HGO 30\, Centro\, Tlaxcoapan\, Hgo.\, Tlaxcoapan\, Hidalgo\, 42950\, Mexico
CATEGORIES:Concurso,Narración oral,Presentación,Taller
ATTACH;FMTTYPE=image/jpeg:https://cartelera.culturahidalgo.gob.mx/wp-content/uploads/2026/04/WhatsApp-Image-2026-04-23-at-1.51.07-PM.jpeg
ORGANIZER;CN="Ayuntamiento%20Municipal%20de%20Tlaxcoapan":MAILTO:tlaxcoapan@hidalgo.gob.mx
GEO:20.0914174;-99.2217822
X-APPLE-STRUCTURED-LOCATION;VALUE=URI;X-ADDRESS=Foro Cultural “Benito Juárez” de Tlaxcoapan 42950 HGO 30 Centro Tlaxcoapan Hgo. Tlaxcoapan Hidalgo 42950 Mexico;X-APPLE-RADIUS=500;X-TITLE=42950\, HGO 30\, Centro\, Tlaxcoapan\, Hgo.:geo:-99.2217822,20.0914174
END:VEVENT
BEGIN:VEVENT
DTSTART;TZID=America/Mexico_City:20260423T190000
DTEND;TZID=America/Mexico_City:20260423T210000
DTSTAMP:20260425T155152
CREATED:20260401T200607Z
LAST-MODIFIED:20260401T200632Z
UID:1547-1776970800-1776978000@cartelera.culturahidalgo.gob.mx
SUMMARY:Obras de Bonilla y Brahms
DESCRIPTION:La temporada Con B de bueno continúa con su tercer concierto\, una velada donde la música revela su profundidad y carácter.La OSEH / Orquesta Sinfónica del Estado de Hidalgo interpreta obras de Antonín Dvořák y Johannes Brahms\, dos voces que dialogan entre la riqueza melódica\, la intensidad emocional y la grandeza sinfónica.Una noche para dejarse envolver por los matices\, las texturas y la fuerza expresiva de la música en vivo.
URL:https://cartelera.culturahidalgo.gob.mx/evento/obras-de-bonilla-y-brahms/
LOCATION:Auditorio Pilares DIF Hidalgo\, Blvd. Everardo Márquez S/N\, Pachuca de Soto\, Hidalgo\, 42086\, Mexico
CATEGORIES:Concierto
ATTACH;FMTTYPE=image/jpeg:https://cartelera.culturahidalgo.gob.mx/wp-content/uploads/2026/04/657816490_1367986048704850_7288723092835959999_n.jpg
END:VEVENT
BEGIN:VEVENT
DTSTART;TZID=America/Mexico_City:20260424T100000
DTEND;TZID=America/Mexico_City:20260424T130000
DTSTAMP:20260425T155152
CREATED:20260424T234245Z
LAST-MODIFIED:20260425T001429Z
UID:1622-1777024800-1777035600@cartelera.culturahidalgo.gob.mx
SUMMARY:Día del libro
DESCRIPTION:
URL:https://cartelera.culturahidalgo.gob.mx/evento/dia-del-libro/2026-04-24/
LOCATION:Foro Cultural “Benito Juárez” de Tlaxcoapan\, 42950\, HGO 30\, Centro\, Tlaxcoapan\, Hgo.\, Tlaxcoapan\, Hidalgo\, 42950\, Mexico
CATEGORIES:Concurso,Narración oral,Presentación,Taller
ATTACH;FMTTYPE=image/jpeg:https://cartelera.culturahidalgo.gob.mx/wp-content/uploads/2026/04/WhatsApp-Image-2026-04-23-at-1.51.07-PM.jpeg
ORGANIZER;CN="Ayuntamiento%20Municipal%20de%20Tlaxcoapan":MAILTO:tlaxcoapan@hidalgo.gob.mx
GEO:20.0914174;-99.2217822
X-APPLE-STRUCTURED-LOCATION;VALUE=URI;X-ADDRESS=Foro Cultural “Benito Juárez” de Tlaxcoapan 42950 HGO 30 Centro Tlaxcoapan Hgo. Tlaxcoapan Hidalgo 42950 Mexico;X-APPLE-RADIUS=500;X-TITLE=42950\, HGO 30\, Centro\, Tlaxcoapan\, Hgo.:geo:-99.2217822,20.0914174
END:VEVENT
BEGIN:VEVENT
DTSTART;TZID=America/Mexico_City:20260424T190000
DTEND;TZID=America/Mexico_City:20260424T210000
DTSTAMP:20260425T155152
CREATED:20260401T192451Z
LAST-MODIFIED:20260401T192451Z
UID:1536-1777057200-1777064400@cartelera.culturahidalgo.gob.mx
SUMMARY:Concierto 3\, BSOEH 2026
DESCRIPTION:En el marco del 125° aniversario de la Banda Sinfónica del Estado de Hidalgo\, te invitamos a disfrutar del tercer concierto de la Temporada 2026 “De batallas\, héroes y fantoches”\, bajo la dirección del maestro Héctor Javier Reyes Bonilla.Una velada que celebra la tradición\, la fuerza y el legado musical de nuestra tierra.
URL:https://cartelera.culturahidalgo.gob.mx/evento/concierto-3-bsoeh-2026/
LOCATION:Auditorio Pilares DIF Hidalgo\, Blvd. Everardo Márquez S/N\, Pachuca de Soto\, Hidalgo\, 42086\, Mexico
CATEGORIES:Concierto
ATTACH;FMTTYPE=image/jpeg:https://cartelera.culturahidalgo.gob.mx/wp-content/uploads/2026/04/658201331_1368870545283067_3599848645886258460_n.jpg
END:VEVENT
BEGIN:VEVENT
DTSTART;TZID=America/Mexico_City:20260501T093000
DTEND;TZID=America/Mexico_City:20260502T200000
DTSTAMP:20260425T155152
CREATED:20260423T183811Z
LAST-MODIFIED:20260423T183811Z
UID:1576-1777627800-1777752000@cartelera.culturahidalgo.gob.mx
SUMMARY:2.º Concurso Nacional de Huapango “Los Llanos de Apan 2026”
DESCRIPTION:
URL:https://cartelera.culturahidalgo.gob.mx/evento/2-o-concurso-nacional-de-huapango-los-llanos-de-apan-2026/
LOCATION:Apan\, Miguel Hidalgo Pte. 1\, Centro\, Apan\, Hidalgo\, 43900\, Mexico
CATEGORIES:Concurso
ATTACH;FMTTYPE=image/jpeg:https://cartelera.culturahidalgo.gob.mx/wp-content/uploads/2026/04/30-1.jpg
END:VEVENT
END:VCALENDAR